BEGIN:VCALENDAR
VERSION:2.0
PRODID:-//Deutsch-Französische Gesellschaft Frankfurt am Main eV - ECPv4.6.10.1//NONSGML v1.0//EN
CALSCALE:GREGORIAN
METHOD:PUBLISH
X-WR-CALNAME:Deutsch-Französische Gesellschaft Frankfurt am Main eV
X-ORIGINAL-URL:https://www.dfg-frankfurt.de/fr/
X-WR-CALDESC:Events for Deutsch-Französische Gesellschaft Frankfurt am Main eV
BEGIN:VEVENT
DTSTART;TZID=Europe/Berlin:20120206T203000
DTEND;TZID=Europe/Berlin:20120206T203000
DTSTAMP:20260421T124652
CREATED:20170804T132350Z
LAST-MODIFIED:20170804T132350Z
UID:4770-1328560200-1328560200@www.dfg-frankfurt.de
SUMMARY:Avant-Première de “Le Gamin au Vélo“ en VO
DESCRIPTION:Régie: Jean Pierre et Luc Dardenne avec Cécile de France\, Thomas Doret et Jérémie Renier\nTarif réduit pour les membres de la SFA à 7\,50 €\, non-membres 10 € \n
URL:https://www.dfg-frankfurt.de/fr/veranstaltungsplan/avant-premiere-de-le-gamin-au-velo-en-vo/
LOCATION:Roßmarkt 7\, Francfort\, 60311\, Deutschland
GEO:50.11263;8.67874
X-APPLE-STRUCTURED-LOCATION;VALUE=URI;X-ADDRESS=Roßmarkt 7 Francfort 60311 Deutschland;X-APPLE-RADIUS=500;X-TITLE=Roßmarkt 7:geo:8.67874,50.11263
ATTACH;FMTTYPE=image/jpeg:https://www.dfg-frankfurt.de/wp-content/uploads/2017/06/Der-Junge-mit-dem-Fahrrad.jpg
END:VEVENT
END:VCALENDAR