BEGIN:VCALENDAR
VERSION:2.0
PRODID:-//Deutsch-Französische Gesellschaft Frankfurt am Main eV - ECPv4.6.10.1//NONSGML v1.0//EN
CALSCALE:GREGORIAN
METHOD:PUBLISH
X-WR-CALNAME:Deutsch-Französische Gesellschaft Frankfurt am Main eV
X-ORIGINAL-URL:https://www.dfg-frankfurt.de/fr/
X-WR-CALDESC:Events for Deutsch-Französische Gesellschaft Frankfurt am Main eV
BEGIN:VEVENT
DTSTART;TZID=Europe/Berlin:20260120T203000
DTEND;TZID=Europe/Berlin:20260120T203000
DTSTAMP:20260421T130636
CREATED:20251212T074658Z
LAST-MODIFIED:20260117T163054Z
UID:23752-1768941000-1768941000@www.dfg-frankfurt.de
SUMMARY:Cinema Kinoabend Avant-Première "C'était mieux avant" de Vinciane Millerau (VOSt)
DESCRIPTION:Nous avons le plaisir de vous inviter à l‘avant- première du film « C’était mieux avant » de Vinciane Millereau en VO francaise avec sous-titres allemands en présence du scénariste Julien Lambroschini\, suivie d’une discussion avec le public. \nAvec Elsa Zylberstein\, Didier Bourdon\, Mathilde Le Borgne \n« Il est touchant\, cet homme que joue Didier Bourdon. J’ai été très heureuse d’avoir un vrai rôle avec lui. J’aime son humanité\, sa bonté. C’est un acteur incroyablement talentueux. »— Vinciane Millereau\, réalisatrice \nDFG-Tarif préférentiel 11\,00 €\, en cas d’achat en ligne\, une commission de prévente de 10 % s’ajoute au prix. \nRéservation de Tickets \nInvitation \n
URL:https://www.dfg-frankfurt.de/fr/veranstaltungsplan/cinema-kinoabend-avant-premiere-cetait-mieux-avant-von-vinciane-millerau-omu/
LOCATION:Roßmarkt 7\, Frankfurt am Main\, 60311\, Deutschland
GEO:50.11263;8.67874
X-APPLE-STRUCTURED-LOCATION;VALUE=URI;X-ADDRESS=Roßmarkt 7 Frankfurt am Main 60311 Deutschland;X-APPLE-RADIUS=500;X-TITLE=Roßmarkt 7:geo:8.67874,50.11263
ATTACH;FMTTYPE=image/jpeg:https://www.dfg-frankfurt.de/wp-content/uploads/cetaitmieux1d461c912b5ca454f0f00cf357146e4a.jpg
END:VEVENT
END:VCALENDAR