BEGIN:VCALENDAR
VERSION:2.0
PRODID:-//Deutsch-Französische Gesellschaft Frankfurt am Main eV - ECPv4.6.10.1//NONSGML v1.0//EN
CALSCALE:GREGORIAN
METHOD:PUBLISH
X-WR-CALNAME:Deutsch-Französische Gesellschaft Frankfurt am Main eV
X-ORIGINAL-URL:https://www.dfg-frankfurt.de/fr/
X-WR-CALDESC:Events for Deutsch-Französische Gesellschaft Frankfurt am Main eV
BEGIN:VEVENT
DTSTART;TZID=Europe/Berlin:20211006T203000
DTEND;TZID=Europe/Berlin:20211006T203000
DTSTAMP:20260424T084331
CREATED:20210922T192830Z
LAST-MODIFIED:20210927T194221Z
UID:14120-1633552200-1633552200@www.dfg-frankfurt.de
SUMMARY:Cinema "Titane" Palme d'Or du festival de Cannes
DESCRIPTION:Film « Titane » en VO sous-titrée \n\n\n\n\nInterdit aux moins de 16 ans \n\n\n\n\nMise en scène: Julia Ducournau avect Vincent Lindon\, Agathe Rousselle\, Garance Marillier \nRéservation en direct online avec le cinéma par le lien qui est communiqué ci-après. \nTickets à 8\,80 € avec réservation online (avec choix des places) ou 8\,00 € au guichet du cinéma. \nInvitation  \nVente de ticket online \n
URL:https://www.dfg-frankfurt.de/fr/veranstaltungsplan/cinema-titane-cannes-gewinner/
LOCATION:Roßmarkt 7\, Frankfurt am Main\, 60311\, Deutschland
GEO:50.11263;8.67874
X-APPLE-STRUCTURED-LOCATION;VALUE=URI;X-ADDRESS=Roßmarkt 7 Frankfurt am Main 60311 Deutschland;X-APPLE-RADIUS=500;X-TITLE=Roßmarkt 7:geo:8.67874,50.11263
ATTACH;FMTTYPE=image/jpeg:https://www.dfg-frankfurt.de/wp-content/uploads/Titane.jpg
END:VEVENT
END:VCALENDAR