BEGIN:VCALENDAR
VERSION:2.0
PRODID:-//Deutsch-Französische Gesellschaft Frankfurt am Main eV - ECPv4.6.10.1//NONSGML v1.0//EN
CALSCALE:GREGORIAN
METHOD:PUBLISH
X-WR-CALNAME:Deutsch-Französische Gesellschaft Frankfurt am Main eV
X-ORIGINAL-URL:https://www.dfg-frankfurt.de/fr/
X-WR-CALDESC:Events for Deutsch-Französische Gesellschaft Frankfurt am Main eV
BEGIN:VEVENT
DTSTART;TZID=Europe/Berlin:20190626T190000
DTEND;TZID=Europe/Berlin:20190626T190000
DTSTAMP:20260424T103046
CREATED:20190526T174733Z
LAST-MODIFIED:20190607T112245Z
UID:9400-1561575600-1561575600@www.dfg-frankfurt.de
SUMMARY:Conférence avec Gerald Braunberger
DESCRIPTION:\nConférence en allemand avec Gerald Braunberger\, Associé-Gérant de la Frankfurter Allgemeine Zeitung\, sur:\n„Wirtschafts- und finanzpolitische Auswirkungen in dem zersplitterten Europa nach den Wahlen“ \nInvitation \nLa capacité de la salle étant limitée à 100 personnes\, l’ordre d’arrivée des inscriptions fait loi. \n
URL:https://www.dfg-frankfurt.de/fr/veranstaltungsplan/conference-avec-gerald-braunberger/
LOCATION:Pariser Str. 1\, Frankfurt am Main\, Hessen\, 60486\, Deutschland
GEO:50.1085313;8.6355481
X-APPLE-STRUCTURED-LOCATION;VALUE=URI;X-ADDRESS=Pariser Str. 1 Frankfurt am Main Hessen 60486 Deutschland;X-APPLE-RADIUS=500;X-TITLE=Pariser Str. 1:geo:8.6355481,50.1085313
ATTACH;FMTTYPE=image/jpeg:https://www.dfg-frankfurt.de/wp-content/uploads/gerald-braunberger.jpg
END:VEVENT
END:VCALENDAR