BEGIN:VCALENDAR
VERSION:2.0
PRODID:-//Deutsch-Französische Gesellschaft Frankfurt am Main eV - ECPv4.6.10.1//NONSGML v1.0//EN
CALSCALE:GREGORIAN
METHOD:PUBLISH
X-WR-CALNAME:Deutsch-Französische Gesellschaft Frankfurt am Main eV
X-ORIGINAL-URL:https://www.dfg-frankfurt.de/fr/
X-WR-CALDESC:Events for Deutsch-Französische Gesellschaft Frankfurt am Main eV
BEGIN:VEVENT
DTSTART;TZID=Europe/Berlin:20210331T190000
DTEND;TZID=Europe/Berlin:20210331T190000
DTSTAMP:20260420T115142
CREATED:20210305T071719Z
LAST-MODIFIED:20210305T112826Z
UID:12475-1617217200-1617217200@www.dfg-frankfurt.de
SUMMARY:Conférence Floriane Azoulay: Dokumente als Zeugen
DESCRIPTION: \nConférence avec Floriane Azoulay\, Présidente des Arolsen Archives\, International Center on Nazi Persecution\, sur « Dokumente als Zeugen: Der Beitrag des Arolsen Archives zum Gedenken an die Opfer der NS Verfolgung » \nInvitation \nFoto: © Arolsen Archives \n
URL:https://www.dfg-frankfurt.de/fr/veranstaltungsplan/conference-floriane-azoulay-dokumente-als-zeugen/
LOCATION:Deutschland
GEO:51.165691;10.451526
ATTACH;FMTTYPE=image/jpeg:https://www.dfg-frankfurt.de/wp-content/uploads/Azoulay.jpg
END:VEVENT
END:VCALENDAR