BEGIN:VCALENDAR
VERSION:2.0
PRODID:-//Deutsch-Französische Gesellschaft Frankfurt am Main eV - ECPv4.6.10.1//NONSGML v1.0//EN
CALSCALE:GREGORIAN
METHOD:PUBLISH
X-WR-CALNAME:Deutsch-Französische Gesellschaft Frankfurt am Main eV
X-ORIGINAL-URL:https://www.dfg-frankfurt.de/fr/
X-WR-CALDESC:Events for Deutsch-Französische Gesellschaft Frankfurt am Main eV
BEGIN:VEVENT
DTSTART;TZID=Europe/Berlin:20190624T203000
DTEND;TZID=Europe/Berlin:20190624T203000
DTSTAMP:20260424T084735
CREATED:20190412T094203Z
LAST-MODIFIED:20190514T180420Z
UID:9244-1561408200-1561408200@www.dfg-frankfurt.de
SUMMARY:Avant-Première du film « Le grand bain » en VO
DESCRIPTION:\n \nFilm « Le grand bain » en VO \nRégie: Gilles Lellouche avec Mathieu Amalric\, Guillaume Canet\, Benoît Poelvoorde \nEntrée: 7\,50 € pour membres SFA\, 10\,- € pour amis \n
URL:https://www.dfg-frankfurt.de/fr/veranstaltungsplan/film-le-grand-bain-ein-becken-voller-maenner-in-ovmdu/
LOCATION:Roßmarkt 7\, Frankfurt am Main\, 60311\, Deutschland
GEO:50.11263;8.67874
X-APPLE-STRUCTURED-LOCATION;VALUE=URI;X-ADDRESS=Roßmarkt 7 Frankfurt am Main 60311 Deutschland;X-APPLE-RADIUS=500;X-TITLE=Roßmarkt 7:geo:8.67874,50.11263
ATTACH;FMTTYPE=image/jpeg:https://www.dfg-frankfurt.de/wp-content/uploads/bain.jpg
END:VEVENT
END:VCALENDAR