BEGIN:VCALENDAR
VERSION:2.0
PRODID:-//Deutsch-Französische Gesellschaft Frankfurt am Main eV - ECPv4.6.10.1//NONSGML v1.0//EN
CALSCALE:GREGORIAN
METHOD:PUBLISH
X-WR-CALNAME:Deutsch-Französische Gesellschaft Frankfurt am Main eV
X-ORIGINAL-URL:https://www.dfg-frankfurt.de/fr/
X-WR-CALDESC:Events for Deutsch-Französische Gesellschaft Frankfurt am Main eV
BEGIN:VEVENT
DTSTART;TZID=Europe/Berlin:20191029T203000
DTEND;TZID=Europe/Berlin:20191029T203000
DTSTAMP:20260420T102500
CREATED:20190905T133145Z
LAST-MODIFIED:20191007T143640Z
UID:9905-1572381000-1572381000@www.dfg-frankfurt.de
SUMMARY:Film: Portrait de la jeune fille en feu
DESCRIPTION:Avant-Première: « Portrait de la jeune fille en feu » en VO \nRégie: Céline Sciamma avec Noémie Merlant\, Adele Haenel und Luàna Bajrami \nEntrée: 7\,50 € pour membres SFA\, 10\,- € pour amis \nmehr Infos zum Film \nInvitation \n
URL:https://www.dfg-frankfurt.de/fr/veranstaltungsplan/film-portrait-einer-jungen-frau-in-flammen/
LOCATION:Roßmarkt 7\, Frankfurt am Main\, 60311\, Deutschland
GEO:50.11263;8.67874
X-APPLE-STRUCTURED-LOCATION;VALUE=URI;X-ADDRESS=Roßmarkt 7 Frankfurt am Main 60311 Deutschland;X-APPLE-RADIUS=500;X-TITLE=Roßmarkt 7:geo:8.67874,50.11263
ATTACH;FMTTYPE=image/jpeg:https://www.dfg-frankfurt.de/wp-content/uploads/portrait_f.jpg
END:VEVENT
END:VCALENDAR