BEGIN:VCALENDAR
VERSION:2.0
PRODID:-//Deutsch-Französische Gesellschaft Frankfurt am Main eV - ECPv4.6.10.1//NONSGML v1.0//EN
CALSCALE:GREGORIAN
METHOD:PUBLISH
X-WR-CALNAME:Deutsch-Französische Gesellschaft Frankfurt am Main eV
X-ORIGINAL-URL:https://www.dfg-frankfurt.de/fr/
X-WR-CALDESC:Events for Deutsch-Französische Gesellschaft Frankfurt am Main eV
BEGIN:VEVENT
DTSTART;TZID=Europe/Berlin:20171212T203000
DTEND;TZID=Europe/Berlin:20171212T203000
DTSTAMP:20260423T180904
CREATED:20171117T134208Z
LAST-MODIFIED:20171118T161051Z
UID:6204-1513110600-1513110600@www.dfg-frankfurt.de
SUMMARY:Film: « Un beau soleil intérieur » en VO
DESCRIPTION: \nAvant-première du film « Un beau soleil intérieur » en VO \nRégie: Claire Denis avec Juliette Binoche\, Xavier Beauvois\, Philippe Katerine\, Josiane Balasko\, Nicolas Duvauchelle\, Gérard Depardieu \nEntrée: 7\,50 € pour membres SFA\, 10\,- € pour amis \nLes inscriptions se font sur la page en version allemande de ce film. \n
URL:https://www.dfg-frankfurt.de/fr/veranstaltungsplan/film-un-beau-soleil-interieur-en-vo/
ATTACH;FMTTYPE=image/jpeg:https://www.dfg-frankfurt.de/wp-content/uploads/sun.jpeg
END:VEVENT
END:VCALENDAR