BEGIN:VCALENDAR
VERSION:2.0
PRODID:-//Deutsch-Französische Gesellschaft Frankfurt am Main eV - ECPv4.6.10.1//NONSGML v1.0//EN
CALSCALE:GREGORIAN
METHOD:PUBLISH
X-WR-CALNAME:Deutsch-Französische Gesellschaft Frankfurt am Main eV
X-ORIGINAL-URL:https://www.dfg-frankfurt.de/fr/
X-WR-CALDESC:Events for Deutsch-Französische Gesellschaft Frankfurt am Main eV
BEGIN:VEVENT
DTSTART;TZID=Europe/Berlin:20190919T100000
DTEND;TZID=Europe/Berlin:20190919T130000
DTSTAMP:20260420T095216
CREATED:20190906T081448Z
LAST-MODIFIED:20190906T161930Z
UID:9934-1568887200-1568898000@www.dfg-frankfurt.de
SUMMARY:IAA Frankreichtag 2019
DESCRIPTION:IAA Frankreichtag 2019: Débat en allemand et français sur “Die Zukunft der Automobilindustrie: Gemeinsame Herausforderungen und Chancen für Deutschland und Frankreich” \n\n\n\nDie Beziehungen zwischen Deutschland und Frankreich sind so wichtig wie nie zuvor. Die Digitalisierung der Automobilindustrie macht nicht an europäischen Grenzen halt. Sowohl Deutschland als auch Frankreich sind wichtige wirtschaftliche Partner und stehen auch hinsichtlich der sich ständig verändernden Kunden- anforderungen vor zahlreichen Herausforderungen. Wir möchten auf der IAA die Gelegenheit nutzen\, um über die Zusammenarbeit zwischen Frankreich und Deutschland in der Automobilindustrie und in Europa näher zu beleuchten. \n\n\nManifestation du VDA et du PFA (Plateforme de la filière automobile) en coopération avec la SFA de Francfort.\nvoir programme\n\n\n\n\n\n
URL:https://www.dfg-frankfurt.de/fr/veranstaltungsplan/iaa-frankreichtag-2019/
LOCATION:Ludwig-Erhard-Anlage 1 (Saal Fantasie II)\, Frankfurt am Main\, Deutschland
GEO:50.111863;8.6508638
X-APPLE-STRUCTURED-LOCATION;VALUE=URI;X-ADDRESS=Ludwig-Erhard-Anlage 1 (Saal Fantasie II) Frankfurt am Main Deutschland;X-APPLE-RADIUS=500;X-TITLE=Ludwig-Erhard-Anlage 1 (Saal Fantasie II):geo:8.6508638,50.111863
ATTACH;FMTTYPE=image/tiff:https://www.dfg-frankfurt.de/wp-content/uploads/IAA.tiff
END:VEVENT
END:VCALENDAR