BEGIN:VCALENDAR
VERSION:2.0
PRODID:-//Deutsch-Französische Gesellschaft Frankfurt am Main eV - ECPv4.6.10.1//NONSGML v1.0//EN
CALSCALE:GREGORIAN
METHOD:PUBLISH
X-WR-CALNAME:Deutsch-Französische Gesellschaft Frankfurt am Main eV
X-ORIGINAL-URL:https://www.dfg-frankfurt.de/fr/
X-WR-CALDESC:Events for Deutsch-Französische Gesellschaft Frankfurt am Main eV
BEGIN:VEVENT
DTSTART;TZID=Europe/Berlin:20180425T200000
DTEND;TZID=Europe/Berlin:20180425T200000
DTSTAMP:20260420T084153
CREATED:20171228T105332Z
LAST-MODIFIED:20180409T190552Z
UID:6453-1524686400-1524686400@www.dfg-frankfurt.de
SUMMARY:Prix Goncourt 2017: Éric Vuillard
DESCRIPTION: \nÉric Vuillard lit de son roman „L’ordre du jour“ / Prix Goncourt 2017. \nEntrée: 4\,- € pour membres SFA / 7\,- € pour amis de la SFA (paiement sur place) \n \nCette manifestation est organisée en coopération avec l’IFRA-SHS/Institut français Frankfurt: l’Institut franco-allemand de Sciences historiques et sociales. \n \n  \n  \n  \n  \nInvitation PDF \n
URL:https://www.dfg-frankfurt.de/fr/veranstaltungsplan/prix-goncourt-2017-eric-vuillard/
LOCATION:Hanauer Landstraße 186\, Francfort\, 60314\, Deutschland
GEO:50.11481;8.72298
X-APPLE-STRUCTURED-LOCATION;VALUE=URI;X-ADDRESS=Hanauer Landstraße 186 Francfort 60314 Deutschland;X-APPLE-RADIUS=500;X-TITLE=Hanauer Landstraße 186:geo:8.72298,50.11481
ATTACH;FMTTYPE=image/jpeg:https://www.dfg-frankfurt.de/wp-content/uploads/tagesordnung.jpg
END:VEVENT
END:VCALENDAR