BEGIN:VCALENDAR
VERSION:2.0
PRODID:-//Deutsch-Französische Gesellschaft Frankfurt am Main eV - ECPv4.6.10.1//NONSGML v1.0//EN
CALSCALE:GREGORIAN
METHOD:PUBLISH
X-WR-CALNAME:Deutsch-Französische Gesellschaft Frankfurt am Main eV
X-ORIGINAL-URL:https://www.dfg-frankfurt.de/fr/
X-WR-CALDESC:Events for Deutsch-Französische Gesellschaft Frankfurt am Main eV
BEGIN:VEVENT
DTSTART;TZID=UTC+0:20120323T190000
DTEND;TZID=UTC+0:20120323T190000
DTSTAMP:20260425T154450
CREATED:20170804T132037Z
LAST-MODIFIED:20170804T132037Z
UID:4771-1332529200-1332529200@www.dfg-frankfurt.de
SUMMARY:Une analyse des récents sondages d’opinion
DESCRIPTION:Olivier Breton\, Directeur de la publication du magazine ParisBerlin\, réfère sur: « Images croisées de la France et de l’Allemagne : une analyse des récents sondages d’opinion » \nA la demande de l’Ambassade d’Allemagne à Paris\, l’IFOP a réalisé en janvier 2012 un sondage sur « L’image de l’Allemagne en France ». Au même moment\, le magazine ParisBerlin a publié le premier baromètre franco-allemand\, résultat d’un sondage réalisé en décembre 2011 en France et en Allemagne sur l’image du pays voisin. Ce baromètre sera régulièrement actualisé. \nLe baromètre \n
URL:https://www.dfg-frankfurt.de/fr/veranstaltungsplan/une-analyse-des-recents-sondages-dopinion/
LOCATION:Siesmayerstraße 12\, Francfort\, 60323\, Deutschland
GEO:50.12038;8.65999
X-APPLE-STRUCTURED-LOCATION;VALUE=URI;X-ADDRESS=Siesmayerstraße 12 Francfort 60323 Deutschland;X-APPLE-RADIUS=500;X-TITLE=Siesmayerstraße 12:geo:8.65999,50.12038
ATTACH;FMTTYPE=image/jpeg:https://www.dfg-frankfurt.de/wp-content/uploads/2017/06/no-event-image.jpg
END:VEVENT
END:VCALENDAR