BEGIN:VCALENDAR
VERSION:2.0
PRODID:-//Deutsch-Französische Gesellschaft Frankfurt am Main eV - ECPv4.6.10.1//NONSGML v1.0//EN
CALSCALE:GREGORIAN
METHOD:PUBLISH
X-WR-CALNAME:Deutsch-Französische Gesellschaft Frankfurt am Main eV
X-ORIGINAL-URL:https://www.dfg-frankfurt.de/fr/
X-WR-CALDESC:Events for Deutsch-Französische Gesellschaft Frankfurt am Main eV
BEGIN:VEVENT
DTSTART;TZID=Europe/Berlin:20211025T190000
DTEND;TZID=Europe/Berlin:20211025T190000
DTSTAMP:20260424T103046
CREATED:20210824T161738Z
LAST-MODIFIED:20211018T162452Z
UID:13775-1635188400-1635188400@www.dfg-frankfurt.de
SUMMARY:Conférence de Michel Meyer à Francfort sur Main
DESCRIPTION:Conférence de Michel Meyer\, journaliste né en Alsace et ancien correspondant de radio\, télévision et presse pour Antenne 2 et Radio-France en Allemagne\, prix Médias 2007 sur « les élections législatives allemandes du 26 septembre 2021 vues de France ». \nConférence suivie d’un dîner (participation: 30 Euros pour les membres\, 40 Euros pour les non-membres). \nSoirée réservée aux personnes doublement vaccinées sur présentation de leur Covpass. \nInvitation \n
URL:https://www.dfg-frankfurt.de/fr/veranstaltungsplan/vortrag-von-michel-meyer-in-frankfurt-am-main/
LOCATION:Opernplatz 16\, Frankfurt am Main\, 60313\, Deutschland
GEO:50.1159167;8.6734547
X-APPLE-STRUCTURED-LOCATION;VALUE=URI;X-ADDRESS=Opernplatz 16 Frankfurt am Main 60313 Deutschland;X-APPLE-RADIUS=500;X-TITLE=Opernplatz 16:geo:8.6734547,50.1159167
ATTACH;FMTTYPE=image/jpeg:https://www.dfg-frankfurt.de/wp-content/uploads/page4image41983504.jpg
END:VEVENT
END:VCALENDAR