BEGIN:VCALENDAR
VERSION:2.0
PRODID:-//Deutsch-Französische Gesellschaft Frankfurt am Main eV - ECPv4.6.10.1//NONSGML v1.0//EN
CALSCALE:GREGORIAN
METHOD:PUBLISH
X-WR-CALNAME:Deutsch-Französische Gesellschaft Frankfurt am Main eV
X-ORIGINAL-URL:https://www.dfg-frankfurt.de/fr/
X-WR-CALDESC:Events for Deutsch-Französische Gesellschaft Frankfurt am Main eV
BEGIN:VEVENT
DTSTART;TZID=Europe/Berlin:20200928T190000
DTEND;TZID=Europe/Berlin:20200928T190000
DTSTAMP:20260424T121444
CREATED:20200816T105934Z
LAST-MODIFIED:20201202T090017Z
UID:11324-1601319600-1601319600@www.dfg-frankfurt.de
SUMMARY:Vortrag von S.E. Anne-Marie Descôtes
DESCRIPTION:Conférence (40 minutes) en français avec S.E. Anne-Marie Descôtes\, Ambassadrice de France en République fédérale d’Allemagne : \n  \n« De la Présidence allemande (2020) à la présidence-française de l’UE (2022)  : une coopération toujours plus étroite au service d’une Europe forte » \nNous avons enregistré cette conference sous ce lien: Nous vous envoyons le mot de passe par mail (info(at)dfg-frankfurt.de). \nInvitation \n
URL:https://www.dfg-frankfurt.de/fr/veranstaltungsplan/vortrag-von-s-e-anne-marie-descotes/
LOCATION:Deutschland
GEO:51.165691;10.451526
ATTACH;FMTTYPE=image/jpeg:https://www.dfg-frankfurt.de/wp-content/uploads/descotes_hd-scaled.jpg
END:VEVENT
END:VCALENDAR