BEGIN:VCALENDAR
VERSION:2.0
PRODID:-//Deutsch-Französische Gesellschaft Frankfurt am Main eV - ECPv4.6.10.1//NONSGML v1.0//EN
CALSCALE:GREGORIAN
METHOD:PUBLISH
X-WR-CALNAME:Deutsch-Französische Gesellschaft Frankfurt am Main eV
X-ORIGINAL-URL:https://www.dfg-frankfurt.de
X-WR-CALDESC:Veranstaltungen für Deutsch-Französische Gesellschaft Frankfurt am Main eV
BEGIN:VEVENT
DTSTART;TZID=Europe/Berlin:20231123T203000
DTEND;TZID=Europe/Berlin:20231129T203000
DTSTAMP:20260420T084103
CREATED:20230827T121246Z
LAST-MODIFIED:20231112T122726Z
UID:18981-1700771400-1701289800@www.dfg-frankfurt.de
SUMMARY:23. Französische Filmwoche 2023 in Frankfurt
DESCRIPTION:\n\n\n\nDie Französische Filmwoche\, organisiert von der DFG in Zusammenarbeit mit dem Arthouse Kino Frankfurt Cinéma am Rossmarkt und dem Institut Francais Deutschland und Unifrance\, ist zurück! \nAuf dem Programm der Französischen Filmwoche 2023 in Frankfurt stehen zahlreiche Deutschlandpremieren französischer und frankophoner Filme. \nZum 23. Mal seit 2000 in Deutschland wird die Französische Filmwoche auch in Frankfurt zu einem Forum der Begegnung und des Austauschs. In diesem Jahr befassen sich die gezeigten Filme mit Persönlichkeiten\, die sich für Freiheit\, Werte und eine bessere Welt einsetzen. \n\nUm keine Vorführung zu verpassen\, entdecken Sie das vollständige Programm\, Tickets und Reservierung über folgenden Link: \n\n\nhttps://www.arthouse-kinos.de/besonderes-events/franzoesische-filmwoche-2023/\n\n\nJeweils um 20h30\,wir spielen von 23. bis einschließlich 29. November alle Filme um 20:30 Uhr\, im großen Saal Lumière und natürlich in der französischen Originalversion mit deutschen Untertiteln. Zu AUF DEM WEG (Sur les chemins noirs) am 24. 11.2023 wird Regisseur Denis Imbert für ein Filmgespräch zu Gast sein.\n\nEinladung\n\n\n\n\n\n
URL:https://www.dfg-frankfurt.de/veranstaltungsplan/abendveranstaltung-details-folgen/
LOCATION:Roßmarkt 7\, Frankfurt am Main\, 60311\, Deutschland
GEO:50.11263;8.67874
X-APPLE-STRUCTURED-LOCATION;VALUE=URI;X-ADDRESS=Roßmarkt 7 Frankfurt am Main 60311 Deutschland;X-APPLE-RADIUS=500;X-TITLE=Roßmarkt 7:geo:8.67874,50.11263
ATTACH;FMTTYPE=image/png:https://www.dfg-frankfurt.de/wp-content/uploads/c4d5dd5f-c656-4d33-9793-dffa6bda37a8.png
END:VEVENT
END:VCALENDAR