BEGIN:VCALENDAR
VERSION:2.0
PRODID:-//Deutsch-Französische Gesellschaft Frankfurt am Main eV - ECPv4.6.10.1//NONSGML v1.0//EN
CALSCALE:GREGORIAN
METHOD:PUBLISH
X-WR-CALNAME:Deutsch-Französische Gesellschaft Frankfurt am Main eV
X-ORIGINAL-URL:https://www.dfg-frankfurt.de
X-WR-CALDESC:Veranstaltungen für Deutsch-Französische Gesellschaft Frankfurt am Main eV
BEGIN:VEVENT
DTSTART;TZID=Europe/Berlin:20250519T203000
DTEND;TZID=Europe/Berlin:20250519T203000
DTSTAMP:20260420T102538
CREATED:20250425T135116Z
LAST-MODIFIED:20250425T153303Z
UID:22383-1747686600-1747686600@www.dfg-frankfurt.de
SUMMARY:Cinéma-Kinoabend Avant-première "Monsieur Aznavour" von Mehdi Idir\, OmU
DESCRIPTION:Cinema-Kinoabend Vorpremiere „Monsieur Aznavour“ von Mehdi Idir in frz. OmU mit d. Untertiteln in Kooperation mit dem Arthouse-Cinema am Roßmarkt.  \nErmäßigter Ticketpreis 11€ für die DFG-Mitglieder. \nTickets \nEinladung \n
URL:https://www.dfg-frankfurt.de/veranstaltungsplan/cinema-avant-premiere-kinoabend-vorpremiere-monsieur-aznavour-omu/
LOCATION:Roßmarkt 7\, Frankfurt am Main\, 60311\, Deutschland
GEO:50.11263;8.67874
X-APPLE-STRUCTURED-LOCATION;VALUE=URI;X-ADDRESS=Roßmarkt 7 Frankfurt am Main 60311 Deutschland;X-APPLE-RADIUS=500;X-TITLE=Roßmarkt 7:geo:8.67874,50.11263
ATTACH;FMTTYPE=image/jpeg:https://www.dfg-frankfurt.de/wp-content/uploads/Aznavour.jpg
END:VEVENT
END:VCALENDAR