BEGIN:VCALENDAR
VERSION:2.0
PRODID:-//Deutsch-Französische Gesellschaft Frankfurt am Main eV - ECPv4.6.10.1//NONSGML v1.0//EN
CALSCALE:GREGORIAN
METHOD:PUBLISH
X-WR-CALNAME:Deutsch-Französische Gesellschaft Frankfurt am Main eV
X-ORIGINAL-URL:https://www.dfg-frankfurt.de
X-WR-CALDESC:Veranstaltungen für Deutsch-Französische Gesellschaft Frankfurt am Main eV
BEGIN:VEVENT
DTSTART;TZID=Europe/Berlin:20260105T203000
DTEND;TZID=Europe/Berlin:20260105T203000
DTSTAMP:20260420T102338
CREATED:20251212T070643Z
LAST-MODIFIED:20251214T135140Z
UID:23734-1767645000-1767645000@www.dfg-frankfurt.de
SUMMARY:Cinema Kinoabend Avant-Première "EIN EINFACHER UNFALL (Un simple accident)" von Jafar Panahi (OmU)
DESCRIPTION:Cinema Kinoabend Avant-Première vom Cannes Gewinner „Ein einfacher Unfall“ von Jafar Panahi (OmU). \nEs ist der 12. Langfilm von Jafar Panahi\, der zu den bekanntesten iranischen Regisseuren zählt. Er hatte in der Vergangenheit in seinen Werken wiederholt Kritik an der Politik der Islamischen Republik geäußert. \nDie internationale Koproduktion wurde im Rahmen der Filmfestspiele von Cannes im Mai 2025 uraufgeführt und gewann mit der Goldenen Palme den Hauptpreis des Festivals. Monate später wurde Ein einfacher Unfall als französischer Vorschlag für die Kategorie Bester Internationaler Film der Oscarverleihung 2026 ausgewählt. \nDer Film ist in der Originalsprache (Farsi) und mit deutschen Untertiteln. \nDFG-Ermäßigter Eintrittspreis 11\,00 Euro \nTickets-Reservierung \nEinladung \n
URL:https://www.dfg-frankfurt.de/veranstaltungsplan/cinema-kinoabend-avant-premiere-ein-einfacher-unfall-omu/
LOCATION:Roßmarkt 7\, Frankfurt am Main\, 60311\, Deutschland
GEO:50.11263;8.67874
X-APPLE-STRUCTURED-LOCATION;VALUE=URI;X-ADDRESS=Roßmarkt 7 Frankfurt am Main 60311 Deutschland;X-APPLE-RADIUS=500;X-TITLE=Roßmarkt 7:geo:8.67874,50.11263
ATTACH;FMTTYPE=image/jpeg:https://www.dfg-frankfurt.de/wp-content/uploads/un-simple-accident-21fff6cefbc8a6359297f3c7eb1bf212.jpg
END:VEVENT
END:VCALENDAR