BEGIN:VCALENDAR
VERSION:2.0
PRODID:-//Deutsch-Französische Gesellschaft Frankfurt am Main eV - ECPv4.6.10.1//NONSGML v1.0//EN
CALSCALE:GREGORIAN
METHOD:PUBLISH
X-WR-CALNAME:Deutsch-Französische Gesellschaft Frankfurt am Main eV
X-ORIGINAL-URL:https://www.dfg-frankfurt.de
X-WR-CALDESC:Veranstaltungen für Deutsch-Französische Gesellschaft Frankfurt am Main eV
BEGIN:VEVENT
DTSTART;TZID=Europe/Berlin:20250204T203000
DTEND;TZID=Europe/Berlin:20250204T203000
DTSTAMP:20260420T083111
CREATED:20250116T213859Z
LAST-MODIFIED:20250116T222206Z
UID:21782-1738701000-1738701000@www.dfg-frankfurt.de
SUMMARY:Cinema-Kinoabend: Vorpremiere "Vingt Dieux" von Louise Courvoisier
DESCRIPTION:Vorpremiere Film „Könige des Sommers“ Originaltitel „Vingt Dieux“ von Louise Courvoisier \nDer erste Spielfilm von Louise Courvoisier\, ausgezeichnet beim Festival von Cannes und beim Festival von Angoulême\, ist eines dieser Juwelen\, die mitten ins Herz treffen. Getragen von der entwaffnenden Energie des jungen Clément Faveau\, findet er seine Anmut in der Darstellung einer rauen und zugleich freudigen Ländlichkeit sowie in der Entschlossenheit einer berührenden Jugend. \nIn Zusammenarbeit mit dem Kino Arthouse am Roßmarkt in Frankfurt. \nIn der französischen Originalversion mit deutschen Untertiteln. \nEinladung \nFür DFG-Mitglieder Eintrittspreis 10€ \nReservierung \n
URL:https://www.dfg-frankfurt.de/veranstaltungsplan/cinema-kinoabend-vorpremiere-film-vingt-dieux-von-louise-courvoisier/
LOCATION:Roßmarkt 7\, Frankfurt am Main\, 60311\, Deutschland
GEO:50.11263;8.67874
X-APPLE-STRUCTURED-LOCATION;VALUE=URI;X-ADDRESS=Roßmarkt 7 Frankfurt am Main 60311 Deutschland;X-APPLE-RADIUS=500;X-TITLE=Roßmarkt 7:geo:8.67874,50.11263
ATTACH;FMTTYPE=image/png:https://www.dfg-frankfurt.de/wp-content/uploads/20dieux.png
END:VEVENT
END:VCALENDAR