BEGIN:VCALENDAR
VERSION:2.0
PRODID:-//Deutsch-Französische Gesellschaft Frankfurt am Main eV - ECPv4.6.10.1//NONSGML v1.0//EN
CALSCALE:GREGORIAN
METHOD:PUBLISH
X-WR-CALNAME:Deutsch-Französische Gesellschaft Frankfurt am Main eV
X-ORIGINAL-URL:https://www.dfg-frankfurt.de
X-WR-CALDESC:Veranstaltungen für Deutsch-Französische Gesellschaft Frankfurt am Main eV
BEGIN:VEVENT
DTSTART;TZID=Europe/Berlin:20230131T193000
DTEND;TZID=Europe/Berlin:20230131T193000
DTSTAMP:20260420T084541
CREATED:20221122T190348Z
LAST-MODIFIED:20230114T174557Z
UID:16959-1675193400-1675193400@www.dfg-frankfurt.de
SUMMARY:Vortrag von S.E. Francois Delattre\, Botschafter Frankreichs in Deutschland
DESCRIPTION:Nur für unsere Mitglieder! \nS.E. Francois Delattre\, Ambassadeur de France spricht mit uns am 31.01.2023 über: \n„60 Jahre Elysée-Vertrag: Zeit\, neu zu starten?“ \nFrancois Delattre ist seit September 2022 Französischer Botschafter in Deutschland. \nEinladung  \n
URL:https://www.dfg-frankfurt.de/veranstaltungsplan/conference-de-s-e-francois-delattre-ambassadeur-de-france/
LOCATION:Saalhof 1 (ehemals Fahrtor 12)\, Frankfurt am Main\, 60311\, Deutschland
GEO:50.1095133;8.6820856
X-APPLE-STRUCTURED-LOCATION;VALUE=URI;X-ADDRESS=Saalhof 1 (ehemals Fahrtor 12) Frankfurt am Main 60311 Deutschland;X-APPLE-RADIUS=500;X-TITLE=Saalhof 1 (ehemals Fahrtor 12):geo:8.6820856,50.1095133
ATTACH;FMTTYPE=image/png:https://www.dfg-frankfurt.de/wp-content/uploads/Delattre.png
END:VEVENT
END:VCALENDAR