BEGIN:VCALENDAR
VERSION:2.0
PRODID:-//Deutsch-Französische Gesellschaft Frankfurt am Main eV - ECPv4.6.10.1//NONSGML v1.0//EN
CALSCALE:GREGORIAN
METHOD:PUBLISH
X-WR-CALNAME:Deutsch-Französische Gesellschaft Frankfurt am Main eV
X-ORIGINAL-URL:https://www.dfg-frankfurt.de
X-WR-CALDESC:Veranstaltungen für Deutsch-Französische Gesellschaft Frankfurt am Main eV
BEGIN:VEVENT
DTSTART;TZID=Europe/Berlin:20230331T193000
DTEND;TZID=Europe/Berlin:20230331T193000
DTSTAMP:20260420T084357
CREATED:20230226T141649Z
LAST-MODIFIED:20230228T070217Z
UID:17721-1680291000-1680291000@www.dfg-frankfurt.de
SUMMARY:Orgelkonzert mit Sophie-Véronique CAUCHEFER-CHOPLIN
DESCRIPTION:Die französische Organistin und Hochschullehrerin Sophie-Véronique Cauchefer-Choplin ist am Freitag\, 31. März\, 19h30\, an der Orgel in St. Nikolaus zu hören. Sie ist seit 1985 zweite Titularorganistin neben Daniel Roth an der großen Cavaillé-Coll-Orgel in Saint Sulpice in Paris. Seit 2008 ist sie außerdem Professorin für Orgel am London Royal College of Music. \nModeration von der deutschen Schauspielerin\, Hörspielsprecherin und Malerin Andrea Wolf. \nJean-Pierre Nortel war ein französicher katholischer Priester und aumônier du spectacle in der Kirche Saint-Roch\, in Paris. \nIn Zusammenarbeit mit dem Förderkreis Orgel und Orgelmusik an St. Nikolaus. \nEs gibt keine Eintrittskarten. Der Eintritt ist frei\, am Ende des Konzertes wird um eine Spende gebeten.\n\nEinladung  \n
URL:https://www.dfg-frankfurt.de/veranstaltungsplan/orgelkonzert-mit-sophie-veronique-cauchefer-choplin/
LOCATION:Nordring 71\, Frankfurt am Main\, 60388\, Deutschland
GEO:50.15942;8.75437
X-APPLE-STRUCTURED-LOCATION;VALUE=URI;X-ADDRESS=Nordring 71 Frankfurt am Main 60388 Deutschland;X-APPLE-RADIUS=500;X-TITLE=Nordring 71:geo:8.75437,50.15942
ATTACH;FMTTYPE=image/jpeg:https://www.dfg-frankfurt.de/wp-content/uploads/sophie_veronique_cauchefer-choplin.jpg
END:VEVENT
END:VCALENDAR