BEGIN:VCALENDAR
VERSION:2.0
PRODID:-//Deutsch-Französische Gesellschaft Frankfurt am Main eV - ECPv4.6.10.1//NONSGML v1.0//EN
CALSCALE:GREGORIAN
METHOD:PUBLISH
X-WR-CALNAME:Deutsch-Französische Gesellschaft Frankfurt am Main eV
X-ORIGINAL-URL:https://www.dfg-frankfurt.de
X-WR-CALDESC:Veranstaltungen für Deutsch-Französische Gesellschaft Frankfurt am Main eV
BEGIN:VEVENT
DTSTART;TZID=Europe/Berlin:20180327T190000
DTEND;TZID=Europe/Berlin:20180327T210000
DTSTAMP:20260424T084900
CREATED:20171211T150821Z
LAST-MODIFIED:20180326T125151Z
UID:6379-1522177200-1522184400@www.dfg-frankfurt.de
SUMMARY:Podiumsdiskussion: „Deutsch-Französische Blicke auf die europäische Bankenunion“
DESCRIPTION:\nKonferenz auf Deutsch zu dem Thema „Deutsch-Französische Blicke auf die europäische Bankenunion“ (« Regards franco-allemands sur l’union bancaire européenne ») \nTeilnehmer der Diskussionsrunde: \nLutz Diederichs\, Deutschlandchef der BNP Paribas \nPhilippe Oddo\, CEO der ODDO BHF Aktiengesellschaft \nFrank Schönherr\, Group Senior Country Officer Germany\, Crédit Agricole S.A. \nEinladung PDF \nWichtig: Da die Veranstaltung im Sicherheitsbereich der Bundesbank stattfindet\, müssen Sie sich als Gast ausweisen. \n
URL:https://www.dfg-frankfurt.de/veranstaltungsplan/podiumsdiskussion-deutsch-franzoesische-blicke-auf-die-europaeische-bankenunion/
LOCATION:Taunusanlage 5\, Frankfurt am Main\, 60329\, Deutschland
GEO:50.1112486;8.6696904
X-APPLE-STRUCTURED-LOCATION;VALUE=URI;X-ADDRESS=Taunusanlage 5 Frankfurt am Main 60329 Deutschland;X-APPLE-RADIUS=500;X-TITLE=Taunusanlage 5:geo:8.6696904,50.1112486
ATTACH;FMTTYPE=image/jpeg:https://www.dfg-frankfurt.de/wp-content/uploads/2017/06/no-event-image.jpg
END:VEVENT
END:VCALENDAR