BEGIN:VCALENDAR
VERSION:2.0
PRODID:-//Deutsch-Französische Gesellschaft Frankfurt am Main eV - ECPv4.6.10.1//NONSGML v1.0//EN
CALSCALE:GREGORIAN
METHOD:PUBLISH
X-WR-CALNAME:Deutsch-Französische Gesellschaft Frankfurt am Main eV
X-ORIGINAL-URL:https://www.dfg-frankfurt.de
X-WR-CALDESC:Veranstaltungen für Deutsch-Französische Gesellschaft Frankfurt am Main eV
BEGIN:VEVENT
DTSTART;TZID=UTC+0:20120319T190000
DTEND;TZID=UTC+0:20120319T190000
DTSTAMP:20260425T120615
CREATED:20170725T180654Z
LAST-MODIFIED:20170727T134326Z
UID:3477-1332183600-1332183600@www.dfg-frankfurt.de
SUMMARY:Verleihung des DFG-Preises 2012
DESCRIPTION:Verleihung des mit 2.000\,– EUR dotierten DFG-Preises 2012 für den besten deutschen Französischschüler aus Frankfurt der Stufen E\, Q1 und Q2 im Kaisersaal des Römers mit anschließendem Empfang (Voranmeldung unbedingt erforderlich) \nHerr Stadtkämmerer Uwe Becker wird die Gäste begrüßen. \nArbeit 1. Preis\, Nicole Kibelka \n
URL:https://www.dfg-frankfurt.de/veranstaltungsplan/verleihung-des-dfg-preises-2012/
LOCATION:Römerberg 27\, Frankfurt am Main\, 60311\, Deutschland
GEO:50.1107073;8.6819623
X-APPLE-STRUCTURED-LOCATION;VALUE=URI;X-ADDRESS=Römerberg 27 Frankfurt am Main 60311 Deutschland;X-APPLE-RADIUS=500;X-TITLE=Römerberg 27:geo:8.6819623,50.1107073
ATTACH;FMTTYPE=image/jpeg:https://www.dfg-frankfurt.de/wp-content/uploads/2017/06/no-event-image.jpg
END:VEVENT
END:VCALENDAR