BEGIN:VCALENDAR
VERSION:2.0
PRODID:-//Deutsch-Französische Gesellschaft Frankfurt am Main eV - ECPv4.6.10.1//NONSGML v1.0//EN
CALSCALE:GREGORIAN
METHOD:PUBLISH
X-WR-CALNAME:Deutsch-Französische Gesellschaft Frankfurt am Main eV
X-ORIGINAL-URL:https://www.dfg-frankfurt.de
X-WR-CALDESC:Veranstaltungen für Deutsch-Französische Gesellschaft Frankfurt am Main eV
BEGIN:VEVENT
DTSTART;TZID=Europe/Berlin:20191219T191500
DTEND;TZID=Europe/Berlin:20191219T191500
DTSTAMP:20260423T090545
CREATED:20191008T134620Z
LAST-MODIFIED:20220308T192003Z
UID:10136-1576782900-1576782900@www.dfg-frankfurt.de
SUMMARY:Vortrag: Admiral Alain Coldefy
DESCRIPTION:Vortrag auf Französisch von Alain Coldefy (ancien Inspecteur Général des Armées): „L’Europe de la Défense après le Brexit“ \nmit anschließendem Vin d’honneur \nEinladung \nPower Point des Vortrags \n
URL:https://www.dfg-frankfurt.de/veranstaltungsplan/vortrag-admiral-alain-coldefy/
LOCATION:Saalhof 1 (ehemals Fahrtor 12)\, Frankfurt am Main\, 60311\, Deutschland
GEO:50.1095133;8.6820856
X-APPLE-STRUCTURED-LOCATION;VALUE=URI;X-ADDRESS=Saalhof 1 (ehemals Fahrtor 12) Frankfurt am Main 60311 Deutschland;X-APPLE-RADIUS=500;X-TITLE=Saalhof 1 (ehemals Fahrtor 12):geo:8.6820856,50.1095133
ATTACH;FMTTYPE=image/jpeg:https://www.dfg-frankfurt.de/wp-content/uploads/SMLH-ALAIN-UNIFORME.jpg
END:VEVENT
END:VCALENDAR