BEGIN:VCALENDAR
VERSION:2.0
PRODID:-//Deutsch-Französische Gesellschaft Frankfurt am Main eV - ECPv4.6.10.1//NONSGML v1.0//EN
CALSCALE:GREGORIAN
METHOD:PUBLISH
X-WR-CALNAME:Deutsch-Französische Gesellschaft Frankfurt am Main eV
X-ORIGINAL-URL:https://www.dfg-frankfurt.de
X-WR-CALDESC:Veranstaltungen für Deutsch-Französische Gesellschaft Frankfurt am Main eV
BEGIN:VEVENT
DTSTART;TZID=Europe/Berlin:20201125T183000
DTEND;TZID=Europe/Berlin:20201125T190000
DTSTAMP:20260424T084844
CREATED:20201101T194011Z
LAST-MODIFIED:20201125T074227Z
UID:11682-1606329000-1606330800@www.dfg-frankfurt.de
SUMMARY:Vortrag: die Deutsch-Französische Zusammenarbeit aus Parlamentssicht
DESCRIPTION:\nDie Vorsitzenden des Vorstands der Deutsch-Französischen Parlamentarischen\nVersammlung:\nAndreas Jung\, MdB\, stv. Vorsitzender der CDU/CSU-Fraktion im Bundestag\nDr. Christophe Arend\, Mitglied der Assemblée nationale\ndiskutieren auf Deutsch und Französisch über\n„Die Deutsch-Französische Zusammenarbeit aus Parlamentssicht“ \nEinladung \n
URL:https://www.dfg-frankfurt.de/veranstaltungsplan/vortrag-die-deutsch-franzoesische-zusammenarbeit-aus-parlamentssicht/
LOCATION:Deutschland
GEO:51.165691;10.451526
ATTACH;FMTTYPE=image/png:https://www.dfg-frankfurt.de/wp-content/uploads/Unknown-e1604260363579.png
END:VEVENT
END:VCALENDAR