BEGIN:VCALENDAR
VERSION:2.0
PRODID:-//Deutsch-Französische Gesellschaft Frankfurt am Main eV - ECPv4.6.10.1//NONSGML v1.0//EN
CALSCALE:GREGORIAN
METHOD:PUBLISH
X-WR-CALNAME:Deutsch-Französische Gesellschaft Frankfurt am Main eV
X-ORIGINAL-URL:https://www.dfg-frankfurt.de
X-WR-CALDESC:Veranstaltungen für Deutsch-Französische Gesellschaft Frankfurt am Main eV
BEGIN:VEVENT
DTSTART;TZID=Europe/Berlin:20190225T190000
DTEND;TZID=Europe/Berlin:20190225T190000
DTSTAMP:20260420T135550
CREATED:20180928T140737Z
LAST-MODIFIED:20190217T133724Z
UID:7878-1551121200-1551121200@www.dfg-frankfurt.de
SUMMARY:Vortrag S.E. François Scheer
DESCRIPTION: \nVortrag auf Französisch mit S.E. François Scheer\, ehemaliger französischer Botschafter in Deutschland (1993 bis 1999): \n« Bruxelles\, Berlin\, Paris : un triangle en sursis ? » \nEinladung \nEine Veranstaltung in Kooperation mit dem IFRA und dem Institut Français\, \n      \n
URL:https://www.dfg-frankfurt.de/veranstaltungsplan/vortrag-francois-scheer/
LOCATION:Siesmayerstraße 12\, Frankfurt am Main\, 60323\, Deutschland
GEO:50.12038;8.65999
X-APPLE-STRUCTURED-LOCATION;VALUE=URI;X-ADDRESS=Siesmayerstraße 12 Frankfurt am Main 60323 Deutschland;X-APPLE-RADIUS=500;X-TITLE=Siesmayerstraße 12:geo:8.65999,50.12038
ATTACH;FMTTYPE=image/jpeg:https://www.dfg-frankfurt.de/wp-content/uploads/Scheer.jpeg
END:VEVENT
END:VCALENDAR