BEGIN:VCALENDAR
VERSION:2.0
PRODID:-//Deutsch-Französische Gesellschaft Frankfurt am Main eV - ECPv4.6.10.1//NONSGML v1.0//EN
CALSCALE:GREGORIAN
METHOD:PUBLISH
X-WR-CALNAME:Deutsch-Französische Gesellschaft Frankfurt am Main eV
X-ORIGINAL-URL:https://www.dfg-frankfurt.de
X-WR-CALDESC:Veranstaltungen für Deutsch-Französische Gesellschaft Frankfurt am Main eV
BEGIN:VEVENT
DTSTART;TZID=Europe/Berlin:20201116T190000
DTEND;TZID=Europe/Berlin:20201116T190000
DTSTAMP:20260420T082246
CREATED:20200205T193334Z
LAST-MODIFIED:20201208T170343Z
UID:10718-1605553200-1605553200@www.dfg-frankfurt.de
SUMMARY:Vortrag J. Willms: Charles de Gaulle
DESCRIPTION:Willms\, Johannes \nJohannes Willms: Vortrag auf Deutsch « De Gaulle 130 Jahre nach Geburt und 50 Jahre nach seinem Tod » anlässlich der Veröffentlichung seines Buchs „Der General Charles de Gaulle und sein Jahrhundert“ \nEinladung \nLesen Sie was der De-Gaulle-Biograph Johannes Willms über Nostalgie und das Erbe des Generals in dem FAZ-Artikel vom 8.12.2020 zu sagen hat: \nFAZ Artikel \n
URL:https://www.dfg-frankfurt.de/veranstaltungsplan/vortrag-j-willms-charles-de-gaulle/
LOCATION:Deutschland
GEO:51.165691;10.451526
ATTACH;FMTTYPE=image/jpeg:https://www.dfg-frankfurt.de/wp-content/uploads/de-Gaulle.jpg
END:VEVENT
END:VCALENDAR