BEGIN:VCALENDAR
VERSION:2.0
PRODID:-//Deutsch-Französische Gesellschaft Frankfurt am Main eV - ECPv4.6.10.1//NONSGML v1.0//EN
CALSCALE:GREGORIAN
METHOD:PUBLISH
X-WR-CALNAME:Deutsch-Französische Gesellschaft Frankfurt am Main eV
X-ORIGINAL-URL:https://www.dfg-frankfurt.de
X-WR-CALDESC:Veranstaltungen für Deutsch-Französische Gesellschaft Frankfurt am Main eV
BEGIN:VEVENT
DTSTART;TZID=Europe/Berlin:20200616T190000
DTEND;TZID=Europe/Berlin:20200616T190000
DTSTAMP:20260423T090310
CREATED:20200507T075802Z
LAST-MODIFIED:20200526T133525Z
UID:10933-1592334000-1592334000@www.dfg-frankfurt.de
SUMMARY:Vortrag Pierre Jacquet
DESCRIPTION:Vortrag via Zoom auf Französisch von Pierre Jacquet zum Thema: \n„Enjeux économiques\, culturels et sociétaux dans le monde après la crise du coronavirus“ \nCirca 1-2 Tage vor der Konferenz erhalten Sie den Zugangslink mit Passwort\, nachdem Sie sich bei uns angemeldet haben. \nBegrenzung auf 100 Personen mit Vorrang für DFG-Mitglieder. \nEinladung \n
URL:https://www.dfg-frankfurt.de/veranstaltungsplan/vortrag-pierre-jacquet/
LOCATION:Deutschland
GEO:51.165691;10.451526
ATTACH;FMTTYPE=image/jpeg:https://www.dfg-frankfurt.de/wp-content/uploads/Pierre-Jacquet.jpg
END:VEVENT
END:VCALENDAR