BEGIN:VCALENDAR
VERSION:2.0
PRODID:-//Deutsch-Französische Gesellschaft Frankfurt am Main eV - ECPv4.6.10.1//NONSGML v1.0//EN
CALSCALE:GREGORIAN
METHOD:PUBLISH
X-WR-CALNAME:Deutsch-Französische Gesellschaft Frankfurt am Main eV
X-ORIGINAL-URL:https://www.dfg-frankfurt.de
X-WR-CALDESC:Veranstaltungen für Deutsch-Französische Gesellschaft Frankfurt am Main eV
BEGIN:VEVENT
DTSTART;TZID=Europe/Berlin:20250917T190000
DTEND;TZID=Europe/Berlin:20250917T190000
DTSTAMP:20260420T084720
CREATED:20250730T190613Z
LAST-MODIFIED:20250905T173228Z
UID:22928-1758135600-1758135600@www.dfg-frankfurt.de
SUMMARY:Vortrag von Karin Müller\, Staatssekretärin für Europaangelegenheiten\, Internationales und Entbürokratisierung
DESCRIPTION:Vortrag von Karin Müller\, Staatssekretärin für Bundes- und Europaangelegenheiten über: \n„Deutschland und Frankreich – Gemeinsam für ein starkes Europa“ \nKostenfrei für DFG-Mitglieder\, 15 € Kostenbeitrag für Nicht-Mitglieder \nEinladung \nKarin Müller ist eine deutschepolitische Beamtin (CDU). Seit Januar 2024 ist sie als Nachfolgerin von Uwe Becker Staatssekretärin beim Hessischen Minister für Bundes- und Europaangelegenheiten\, Internationales und Entbürokratisierung in der Hessischen Staatskanzlei. \n
URL:https://www.dfg-frankfurt.de/veranstaltungsplan/vortrag-von-karin-mueller-staatssekretaerin-fuer-bundes-und-europaangelegenheiten/
LOCATION:Fahrtor 2\, Frankfurt am Main\, Deutschland
GEO:50.1093259;8.682206
X-APPLE-STRUCTURED-LOCATION;VALUE=URI;X-ADDRESS=Fahrtor 2 Frankfurt am Main Deutschland;X-APPLE-RADIUS=500;X-TITLE=Fahrtor 2:geo:8.682206,50.1093259
ATTACH;FMTTYPE=image/jpeg:https://www.dfg-frankfurt.de/wp-content/uploads/karin_mueller.jpg
END:VEVENT
END:VCALENDAR