BEGIN:VCALENDAR
VERSION:2.0
PRODID:-//Deutsch-Französische Gesellschaft Frankfurt am Main eV - ECPv4.6.10.1//NONSGML v1.0//EN
CALSCALE:GREGORIAN
METHOD:PUBLISH
X-WR-CALNAME:Deutsch-Französische Gesellschaft Frankfurt am Main eV
X-ORIGINAL-URL:https://www.dfg-frankfurt.de
X-WR-CALDESC:Veranstaltungen für Deutsch-Französische Gesellschaft Frankfurt am Main eV
BEGIN:VEVENT
DTSTART;TZID=Europe/Berlin:20230905T190000
DTEND;TZID=Europe/Berlin:20230905T190000
DTSTAMP:20260420T100804
CREATED:20230410T152929Z
LAST-MODIFIED:20230818T094023Z
UID:18007-1693940400-1693940400@www.dfg-frankfurt.de
SUMMARY:Vortrag von Philippe Oddo\, Vorstandschef von Oddo BHF
DESCRIPTION:Vortrag auf Deutsch von Philippe Oddo ist Geschäftsführender Gesellschafter von ODDO BHF SCA und Vorstandsvorsitzender der ODDO BHF SE. \n„Die Bankenunion in Europa: Herausforderungen und Perspektiven“ \n\n\n\nODDO BHF ist eine deutsch-französische Finanzgruppe mit einer über 170-jährigen Geschichte. Die Gruppe ist aus einer französischen Familienbank und einer deutschen Privatbank mit Schwerpunkt auf dem Mittelstand hervorgegangen. ODDO BHF beschäftigt 2.700 Mitarbeiterinnen und Mitarbeiter (rund 1.400 in Deutschland und der Schweiz und 1.300 in Frankreich und Tunesien)\, verwaltet 128 Mrd. Euro an Vermögenswerten für seine Kunden und ist in den Bereichen Private Wealth Management\, Asset Management sowie Corporates & Markets tätig. Etwa 65 % des Kapitals der Gruppe werden von der Familie Oddo gehalten\, etwa 25 % von den Mitarbeiterinnen und Mitarbeitern. Diese partnerschaftliche Zusammenarbeit garantiert ein hohes und langfristiges Engagement der Kolleginnen und Kollegen. Im Jahr 2022 beliefen sich die Nettoeinnahmen aus dem Bankgeschäft der ODDO BHF auf 727 Mio. Euro. Das konsolidierte Eigenkapital der Gruppe lag zum 31. Dezember 2022 bei über 1\,1 Mrd. Euro. \n\n\n\nEinladung  \n
URL:https://www.dfg-frankfurt.de/veranstaltungsplan/vortrag-von-philippe-oddo-vorstandschef-von-oddo-bhf/
LOCATION:Gallusanlage 8\, Frankfurt\, Hessen\, 60329\, Deutschland
ATTACH;FMTTYPE=image/jpeg:https://www.dfg-frankfurt.de/wp-content/uploads/philippe-oddo-Kopie.jpg
END:VEVENT
END:VCALENDAR