BEGIN:VCALENDAR
VERSION:2.0
PRODID:-//Deutsch-Französische Gesellschaft Frankfurt am Main eV - ECPv4.6.10.1//NONSGML v1.0//EN
CALSCALE:GREGORIAN
METHOD:PUBLISH
X-WR-CALNAME:Deutsch-Französische Gesellschaft Frankfurt am Main eV
X-ORIGINAL-URL:https://www.dfg-frankfurt.de
X-WR-CALDESC:Veranstaltungen für Deutsch-Französische Gesellschaft Frankfurt am Main eV
BEGIN:VEVENT
DTSTART;TZID=Europe/Berlin:20221013T153000
DTEND;TZID=Europe/Berlin:20221013T153000
DTSTAMP:20260420T100951
CREATED:20220919T195404Z
LAST-MODIFIED:20221007T203130Z
UID:16665-1665675000-1665675000@www.dfg-frankfurt.de
SUMMARY:Vortrag von Prof. Philippe Aghion\, Collège de France & INSEAD
DESCRIPTION:Vortrag von Prof. Philippe Aghion\, Collège de France & INSEAD über “Modern Manufacturing Capital\, Labor Demand\, and Product Market Dynamics: Evidence from France”. In Kooperation mit dem Institut franco-allemand IFRA/ Institut français Frankfurt. \nAutomationstechnologie zerstört keine Arbeitsplätze.  \nAutomation technology doesn’t destroy employment. \nEinladung (in english) \nInstitut Français \n \n
URL:https://www.dfg-frankfurt.de/veranstaltungsplan/vortrag-von-prof-philippe-aghion-college-de-france-insead/
LOCATION:Theodor-W.-Adorno-Platz 3\, Frankfurt am Main\, 60323\, Deutschland
GEO:50.1271634;8.6651936
X-APPLE-STRUCTURED-LOCATION;VALUE=URI;X-ADDRESS=Theodor-W.-Adorno-Platz 3 Frankfurt am Main 60323 Deutschland;X-APPLE-RADIUS=500;X-TITLE=Theodor-W.-Adorno-Platz 3:geo:8.6651936,50.1271634
ATTACH;FMTTYPE=image/jpeg:https://www.dfg-frankfurt.de/wp-content/uploads/aghion.jpg
END:VEVENT
END:VCALENDAR