BEGIN:VCALENDAR
VERSION:2.0
PRODID:-//Deutsch-Französische Gesellschaft Frankfurt am Main eV - ECPv4.6.10.1//NONSGML v1.0//EN
CALSCALE:GREGORIAN
METHOD:PUBLISH
X-WR-CALNAME:Deutsch-Französische Gesellschaft Frankfurt am Main eV
X-ORIGINAL-URL:https://www.dfg-frankfurt.de
X-WR-CALDESC:Veranstaltungen für Deutsch-Französische Gesellschaft Frankfurt am Main eV
BEGIN:VEVENT
DTSTART;TZID=Europe/Berlin:20180212T190000
DTEND;TZID=Europe/Berlin:20180212T190000
DTSTAMP:20260423T150311
CREATED:20171215T125424Z
LAST-MODIFIED:20181023T182522Z
UID:6410-1518462000-1518462000@www.dfg-frankfurt.de
SUMMARY:ausgebucht: Vortrag von S.E. Anne-Marie Descôtes\, Botschafterin der Republik Frankreich
DESCRIPTION:Vortrag bei der DFG FFM Frankfurt \n \nVortrag von S.E. Anne-Marie Descôtes\, Botschafterin der Republik Frankreich in Berlin: « Frankreich und Deutschland gemeinsam für Europa »  \nEinladung PDF \n
URL:https://www.dfg-frankfurt.de/veranstaltungsplan/vortrag-von-s-e-anne-marie-descotes-botschafterin-der-republik-frankreich/
LOCATION:Saalhof 1 (ehemals Fahrtor 12)\, Frankfurt am Main\, 60311\, Deutschland
GEO:50.1095133;8.6820856
X-APPLE-STRUCTURED-LOCATION;VALUE=URI;X-ADDRESS=Saalhof 1 (ehemals Fahrtor 12) Frankfurt am Main 60311 Deutschland;X-APPLE-RADIUS=500;X-TITLE=Saalhof 1 (ehemals Fahrtor 12):geo:8.6820856,50.1095133
ATTACH;FMTTYPE=image/jpeg:https://www.dfg-frankfurt.de/wp-content/uploads/Descôtes.jpg
END:VEVENT
END:VCALENDAR