BEGIN:VCALENDAR
VERSION:2.0
PRODID:-//Deutsch-Französische Gesellschaft Frankfurt am Main eV - ECPv4.6.10.1//NONSGML v1.0//EN
CALSCALE:GREGORIAN
METHOD:PUBLISH
X-WR-CALNAME:Deutsch-Französische Gesellschaft Frankfurt am Main eV
X-ORIGINAL-URL:https://www.dfg-frankfurt.de
X-WR-CALDESC:Veranstaltungen für Deutsch-Französische Gesellschaft Frankfurt am Main eV
BEGIN:VEVENT
DTSTART;TZID=Europe/Berlin:20190325T190000
DTEND;TZID=Europe/Berlin:20190325T190000
DTSTAMP:20260420T113328
CREATED:20190328T145911Z
LAST-MODIFIED:20190328T145911Z
UID:9175-1553540400-1553540400@www.dfg-frankfurt.de
SUMMARY:Vortrag von S.E. Bernard Bajolet
DESCRIPTION: \nVortrag auf Französisch von S.E. Bernard Bajolet\, ehemaliger Generaldirektor der Sécurité extérieure (DGSE).\nThema: « Diplomatie et renseignement face au désordre du monde : quels enjeux pour l’Europe? » \n
URL:https://www.dfg-frankfurt.de/veranstaltungsplan/vortrag-von-s-e-bernard-bajolet/
LOCATION:Siesmayerstraße 12\, Frankfurt am Main\, 60323\, Deutschland
GEO:50.12038;8.65999
X-APPLE-STRUCTURED-LOCATION;VALUE=URI;X-ADDRESS=Siesmayerstraße 12 Frankfurt am Main 60323 Deutschland;X-APPLE-RADIUS=500;X-TITLE=Siesmayerstraße 12:geo:8.65999,50.12038
ATTACH;FMTTYPE=image/jpeg:https://www.dfg-frankfurt.de/wp-content/uploads/BB.jpg
END:VEVENT
END:VCALENDAR