BEGIN:VCALENDAR
VERSION:2.0
PRODID:-//Deutsch-Französische Gesellschaft Frankfurt am Main eV - ECPv4.6.10.1//NONSGML v1.0//EN
CALSCALE:GREGORIAN
METHOD:PUBLISH
X-WR-CALNAME:Deutsch-Französische Gesellschaft Frankfurt am Main eV
X-ORIGINAL-URL:https://www.dfg-frankfurt.de
X-WR-CALDESC:Veranstaltungen für Deutsch-Französische Gesellschaft Frankfurt am Main eV
BEGIN:VEVENT
DTSTART;TZID=Europe/Berlin:20240912T190000
DTEND;TZID=Europe/Berlin:20240912T190000
DTSTAMP:20260424T084759
CREATED:20240808T173245Z
LAST-MODIFIED:20240808T174721Z
UID:21111-1726167600-1726167600@www.dfg-frankfurt.de
SUMMARY:Vortragsabend mit Gerald Braunberger\, Herausgeber der Frankfurter Allgemeinen Zeitung (FAZ)
DESCRIPTION:Der erste Vortragsabend der DFG nach der Sommerpause findet am 12. September um 19 Uhr in der Evangelischen Akademie statt mit Gerald Braunberger\, Herausgeber der Frankfurter Allgemeinen Zeitung (FAZ) (in deutscher Sprache) zum Thema: \n„Wie steht es um die europäische Wirtschaft nach Olympia und so vielen strukturellen Umbrüchen?“ \nEintritt frei für DFG-Mitglieder. Kostenbeteiligung für Nicht-Mitglieder in Höhe von 15 Euro pro Person. \nEinladung  \n
URL:https://www.dfg-frankfurt.de/veranstaltungsplan/vortragsabend-mit-gerald-braunberger-herausgeber-der-frankfurter-allgemeinen-zeitung-faz/
LOCATION:Römerberg 9\, Frankfurt am Main\, Hessen\, 60311\, Deutschland
GEO:50.109672;8.6811543
X-APPLE-STRUCTURED-LOCATION;VALUE=URI;X-ADDRESS=Römerberg 9 Frankfurt am Main Hessen 60311 Deutschland;X-APPLE-RADIUS=500;X-TITLE=Römerberg 9:geo:8.6811543,50.109672
ATTACH;FMTTYPE=image/jpeg:https://www.dfg-frankfurt.de/wp-content/uploads/Braunberger-1-scaled.jpg
END:VEVENT
END:VCALENDAR